BEGIN:VCALENDAR
VERSION:2.0
PRODID:-//De Vlaamse Gilde van Houtdraaiers - ECPv6.10.0//NONSGML v1.0//EN
CALSCALE:GREGORIAN
METHOD:PUBLISH
X-ORIGINAL-URL:https://www.houtdraaiersgilde.be
X-WR-CALDESC:Evenementen voor De Vlaamse Gilde van Houtdraaiers
REFRESH-INTERVAL;VALUE=DURATION:PT1H
X-Robots-Tag:noindex
X-PUBLISHED-TTL:PT1H
BEGIN:VTIMEZONE
TZID:UTC
BEGIN:STANDARD
TZOFFSETFROM:+0000
TZOFFSETTO:+0000
TZNAME:UTC
DTSTART:20260101T000000
END:STANDARD
END:VTIMEZONE
BEGIN:VEVENT
DTSTART;VALUE=DATE:20260426
DTEND;VALUE=DATE:20260427
DTSTAMP:20260426T021621
CREATED:20260204T110651Z
LAST-MODIFIED:20260204T110651Z
UID:104603-1777161600-1777247999@www.houtdraaiersgilde.be
SUMMARY:25ste editie van Erfgoeddag in alle Vlaamse provincies
DESCRIPTION:Op diverse locaties in Vlaanderen \nErfgoeddag is een initiatief van FARO. Vlaams steunpunt voor cultureel erfgoed vzw\, in samenwerking met de erfgoedgemeenschappen in Vlaanderen en Brussel\, en krijgt de steun van de Vlaamse overheid.
URL:https://www.houtdraaiersgilde.be/event/25ste-editie-van-erfgoeddag-in-alle-vlaamse-provincies/
LOCATION:Vlaanderen\, België
END:VEVENT
END:VCALENDAR