BEGIN:VCALENDAR
VERSION:2.0
PRODID:-//De Vlaamse Gilde van Houtdraaiers - ECPv6.10.0//NONSGML v1.0//EN
CALSCALE:GREGORIAN
METHOD:PUBLISH
X-WR-CALNAME:De Vlaamse Gilde van Houtdraaiers
X-ORIGINAL-URL:https://www.houtdraaiersgilde.be
X-WR-CALDESC:Evenementen voor De Vlaamse Gilde van Houtdraaiers
REFRESH-INTERVAL;VALUE=DURATION:PT1H
X-Robots-Tag:noindex
X-PUBLISHED-TTL:PT1H
BEGIN:VTIMEZONE
TZID:UTC
BEGIN:STANDARD
TZOFFSETFROM:+0000
TZOFFSETTO:+0000
TZNAME:UTC
DTSTART:20260101T000000
END:STANDARD
END:VTIMEZONE
BEGIN:VEVENT
DTSTART;TZID=UTC:20260321T090000
DTEND;TZID=UTC:20260321T150000
DTSTAMP:20260426T035125
CREATED:20260203T193909Z
LAST-MODIFIED:20260203T193909Z
UID:102539-1774083600-1774105200@www.houtdraaiersgilde.be
SUMMARY:Ambachtenmarkt op de paardenmarkt in Kuringen ( sinds 1242 !)
DESCRIPTION:
URL:https://www.houtdraaiersgilde.be/event/ambachtenmarkt-op-de-paardenmarkt-in-kuringen-sinds-1242/
LOCATION:Paardenmarkt\, Prinsenhofweg\, Kuringen\, Limburg\, Belgium
END:VEVENT
END:VCALENDAR