BEGIN:VCALENDAR
VERSION:2.0
PRODID:-//De Vlaamse Gilde van Houtdraaiers - ECPv6.10.0//NONSGML v1.0//EN
CALSCALE:GREGORIAN
METHOD:PUBLISH
X-ORIGINAL-URL:https://www.houtdraaiersgilde.be
X-WR-CALDESC:Evenementen voor De Vlaamse Gilde van Houtdraaiers
REFRESH-INTERVAL;VALUE=DURATION:PT1H
X-Robots-Tag:noindex
X-PUBLISHED-TTL:PT1H
BEGIN:VTIMEZONE
TZID:UTC
BEGIN:STANDARD
TZOFFSETFROM:+0000
TZOFFSETTO:+0000
TZNAME:UTC
DTSTART:20260101T000000
END:STANDARD
END:VTIMEZONE
BEGIN:VEVENT
DTSTART;VALUE=DATE:20260501
DTEND;VALUE=DATE:20260503
DTSTAMP:20260426T021834
CREATED:20260415T111738Z
LAST-MODIFIED:20260415T112538Z
UID:104788-1777593600-1777766399@www.houtdraaiersgilde.be
SUMMARY:Lente in de Vlamingstraat op 1 & 2 mei 2026 in Poperinge
DESCRIPTION:Mark Bode Exposeert en demonstreert ( bij Leen Haerinck in Poperinge)
URL:https://www.houtdraaiersgilde.be/event/lente-in-de-vlamingstraat-op-1-2-mei-2026-exposeert-mark-bode-in-poperinge/
LOCATION:Vlamingstraat 17\, Vlamingstraat 17\, Poperinge\, West-Vlaanderen\, 8970
ATTACH;FMTTYPE=image/jpeg:https://www.houtdraaiersgilde.be/wp-content/uploads/2025/04/lente-in-de.jpg
END:VEVENT
BEGIN:VEVENT
DTSTART;VALUE=DATE:20260502
DTEND;VALUE=DATE:20260504
DTSTAMP:20260426T021834
CREATED:20260203T194930Z
LAST-MODIFIED:20260203T194930Z
UID:104514-1777680000-1777852799@www.houtdraaiersgilde.be
SUMMARY:Atelier in beeld
DESCRIPTION:Atelier in Beeld\, open studio- en atelierdagen bij meer dan 2000 beeldende kunstenaars in Vlaanderen en Brussel\, atelierinbeeld.be
URL:https://www.houtdraaiersgilde.be/event/atelier-in-beeld-2/
LOCATION:Belgie\, Belgium
END:VEVENT
END:VCALENDAR