BEGIN:VCALENDAR
VERSION:2.0
PRODID:-//De Vlaamse Gilde van Houtdraaiers - ECPv6.10.0//NONSGML v1.0//EN
CALSCALE:GREGORIAN
METHOD:PUBLISH
X-ORIGINAL-URL:https://www.houtdraaiersgilde.be
X-WR-CALDESC:Evenementen voor De Vlaamse Gilde van Houtdraaiers
REFRESH-INTERVAL;VALUE=DURATION:PT1H
X-Robots-Tag:noindex
X-PUBLISHED-TTL:PT1H
BEGIN:VTIMEZONE
TZID:UTC
BEGIN:STANDARD
TZOFFSETFROM:+0000
TZOFFSETTO:+0000
TZNAME:UTC
DTSTART:20260101T000000
END:STANDARD
END:VTIMEZONE
BEGIN:VEVENT
DTSTART;TZID=UTC:20260524T110000
DTEND;TZID=UTC:20260524T180000
DTSTAMP:20260426T035926
CREATED:20260225T101831Z
LAST-MODIFIED:20260225T101831Z
UID:104700-1779620400-1779645600@www.houtdraaiersgilde.be
SUMMARY:Huismanshoeve Maakt ! Ambachtendag 2026
DESCRIPTION:Op zondag 24 mei 2026 organiseert het Plattelandscentrum Meetjesland opnieuw een Ambachtenmarkt in het provinciaal streekcentrum Huysmanhoeve te Eeklo. \nNet zoals vorige jaren ligt de focus niet alleen op oude ambachten\, maar bieden we ook een podium aan hedendaagse makers.
URL:https://www.houtdraaiersgilde.be/event/huismanshoeve-maakt-ambachtendag-2026/
LOCATION:Provinciaal Streekcentrum Huysmanhoeve\, Bus 1\, Eeklo\, Oost-Vlaanderen\, 9990\, Belgium
END:VEVENT
END:VCALENDAR