BEGIN:VCALENDAR
VERSION:2.0
PRODID:-//De Vlaamse Gilde van Houtdraaiers - ECPv6.10.0//NONSGML v1.0//EN
CALSCALE:GREGORIAN
METHOD:PUBLISH
X-ORIGINAL-URL:https://www.houtdraaiersgilde.be
X-WR-CALDESC:Evenementen voor De Vlaamse Gilde van Houtdraaiers
REFRESH-INTERVAL;VALUE=DURATION:PT1H
X-Robots-Tag:noindex
X-PUBLISHED-TTL:PT1H
BEGIN:VTIMEZONE
TZID:UTC
BEGIN:STANDARD
TZOFFSETFROM:+0000
TZOFFSETTO:+0000
TZNAME:UTC
DTSTART:20260101T000000
END:STANDARD
END:VTIMEZONE
BEGIN:VEVENT
DTSTART;TZID=UTC:20260527T193000
DTEND;TZID=UTC:20260527T213000
DTSTAMP:20260426T035942
CREATED:20251121T123753Z
LAST-MODIFIED:20260203T163016Z
UID:104268-1779910200-1779917400@www.houtdraaiersgilde.be
SUMMARY:Maandelijkse vergadering Prov West-Vlaanderen
DESCRIPTION:4de woensdag van de maand
URL:https://www.houtdraaiersgilde.be/event/maandelijkse-vergadering-west-vlaanderen-5/
LOCATION:VTI Torhout -Sint Aloysius\, Papebrugstraat 8a\, Torhout\, West-Vlaanderen\, 8820\, België
CATEGORIES:Provinciale bijeenkomsten,West-Vlaanderen
END:VEVENT
BEGIN:VEVENT
DTSTART;TZID=UTC:20260527T193000
DTEND;TZID=UTC:20260527T213000
DTSTAMP:20260426T035942
CREATED:20260203T213937Z
LAST-MODIFIED:20260203T214103Z
UID:104454-1779910200-1779917400@www.houtdraaiersgilde.be
SUMMARY:Maandelijkse Provinciale vergadering West-Vlaanderen
DESCRIPTION:4de woensdag van de maand
URL:https://www.houtdraaiersgilde.be/event/provinciale-vergadering-west-vlaanderen/
LOCATION:VTI Torhout -Sint Aloysius\, Papebrugstraat 8a\, Torhout\, West-Vlaanderen\, 8820\, België
CATEGORIES:Provinciale bijeenkomsten,West-Vlaanderen
END:VEVENT
END:VCALENDAR