BEGIN:VCALENDAR
VERSION:2.0
PRODID:-//De Vlaamse Gilde van Houtdraaiers - ECPv6.10.0//NONSGML v1.0//EN
CALSCALE:GREGORIAN
METHOD:PUBLISH
X-ORIGINAL-URL:https://www.houtdraaiersgilde.be
X-WR-CALDESC:Evenementen voor De Vlaamse Gilde van Houtdraaiers
REFRESH-INTERVAL;VALUE=DURATION:PT1H
X-Robots-Tag:noindex
X-PUBLISHED-TTL:PT1H
BEGIN:VTIMEZONE
TZID:UTC
BEGIN:STANDARD
TZOFFSETFROM:+0000
TZOFFSETTO:+0000
TZNAME:UTC
DTSTART:20260101T000000
END:STANDARD
END:VTIMEZONE
BEGIN:VEVENT
DTSTART;TZID=UTC:20260311T193000
DTEND;TZID=UTC:20260311T213000
DTSTAMP:20260424T211928
CREATED:20260203T220306Z
LAST-MODIFIED:20260203T220306Z
UID:104571-1773257400-1773264600@www.houtdraaiersgilde.be
SUMMARY:Maandelijkse provinciale vergadering Oost-Vlaanderen
DESCRIPTION:2de woensdag van de maand
URL:https://www.houtdraaiersgilde.be/event/maandelijkse-provinciale-vergadering-oost-vlaanderen-8/
LOCATION:EDUGO Campus Glorieux\, St.-Jozefstraat 7\, Oostakker\, Oost-Vlaanderen\, 9041\, België
CATEGORIES:Oost-Vlaanderen,Provinciale bijeenkomsten
END:VEVENT
END:VCALENDAR