BEGIN:VCALENDAR
VERSION:2.0
PRODID:-//De Vlaamse Gilde van Houtdraaiers - ECPv6.10.0//NONSGML v1.0//EN
CALSCALE:GREGORIAN
METHOD:PUBLISH
X-WR-CALNAME:De Vlaamse Gilde van Houtdraaiers
X-ORIGINAL-URL:https://www.houtdraaiersgilde.be
X-WR-CALDESC:Evenementen voor De Vlaamse Gilde van Houtdraaiers
REFRESH-INTERVAL;VALUE=DURATION:PT1H
X-Robots-Tag:noindex
X-PUBLISHED-TTL:PT1H
BEGIN:VTIMEZONE
TZID:UTC
BEGIN:STANDARD
TZOFFSETFROM:+0000
TZOFFSETTO:+0000
TZNAME:UTC
DTSTART:20260101T000000
END:STANDARD
END:VTIMEZONE
BEGIN:VEVENT
DTSTART;TZID=UTC:20260625T193000
DTEND;TZID=UTC:20260625T220000
DTSTAMP:20260426T035949
CREATED:20260203T215651Z
LAST-MODIFIED:20260203T215651Z
UID:104567-1782415800-1782424800@www.houtdraaiersgilde.be
SUMMARY:Maandelijkse provinciale vergadering Vlaams-Brabant
DESCRIPTION:4de donderdag v/d maand
URL:https://www.houtdraaiersgilde.be/event/maandelijkse-provinciale-vergadering-vlaams-brabant-11/
LOCATION:Het Gasthuis Cultuurcentrum\, Gasthuisstraat 20/22\, Aarschot\, Vlaams-Brabant\, 3200\, België
CATEGORIES:Provinciale bijeenkomsten,Vlaams-Brabant
END:VEVENT
BEGIN:VEVENT
DTSTART;TZID=UTC:20260628T100000
DTEND;TZID=UTC:20260628T170000
DTSTAMP:20260426T035949
CREATED:20260203T204526Z
LAST-MODIFIED:20260203T204526Z
UID:104517-1782640800-1782666000@www.houtdraaiersgilde.be
SUMMARY:Kiewit Zomert
DESCRIPTION:
URL:https://www.houtdraaiersgilde.be/event/kiewit-zomert/
LOCATION:Domein Kiewit\, Hasselt\, Belgium
END:VEVENT
BEGIN:VEVENT
DTSTART;TZID=UTC:20260715T193000
DTEND;TZID=UTC:20260715T213000
DTSTAMP:20260426T035949
CREATED:20260203T191238Z
LAST-MODIFIED:20260203T191238Z
UID:104495-1784143800-1784151000@www.houtdraaiersgilde.be
SUMMARY:Maandelijkse provinciale vergadering Limburg
DESCRIPTION:3de woensdag van de maand
URL:https://www.houtdraaiersgilde.be/event/maandelijkse-provinciale-vergadering-limburg-13/
LOCATION:St.-Jozefzaal Verenigingenhuis\, Hoek Minderbroederstraat 2 en Onderwijslaan 100\, Genk\, Limburg\, 3600\, België
END:VEVENT
BEGIN:VEVENT
DTSTART;TZID=UTC:20260819T193000
DTEND;TZID=UTC:20260819T213000
DTSTAMP:20260426T035949
CREATED:20260203T191502Z
LAST-MODIFIED:20260203T191502Z
UID:104497-1787167800-1787175000@www.houtdraaiersgilde.be
SUMMARY:Maandelijkse provinciale vergadering Limburg
DESCRIPTION:3de woensdag van de maand
URL:https://www.houtdraaiersgilde.be/event/maandelijkse-provinciale-vergadering-limburg-14/
LOCATION:St.-Jozefzaal Verenigingenhuis\, Hoek Minderbroederstraat 2 en Onderwijslaan 100\, Genk\, Limburg\, 3600\, België
END:VEVENT
BEGIN:VEVENT
DTSTART;TZID=UTC:20260909T193000
DTEND;TZID=UTC:20260909T213000
DTSTAMP:20260426T035949
CREATED:20260203T221226Z
LAST-MODIFIED:20260203T221226Z
UID:104579-1788982200-1788989400@www.houtdraaiersgilde.be
SUMMARY:Maandelijkse provinciale vergadering Oost-Vlaanderen
DESCRIPTION:2de woensdag van de maand
URL:https://www.houtdraaiersgilde.be/event/maandelijkse-provinciale-vergadering-oost-vlaanderen-12/
LOCATION:EDUGO Campus Glorieux\, St.-Jozefstraat 7\, Oostakker\, Oost-Vlaanderen\, 9041\, België
CATEGORIES:Oost-Vlaanderen,Provinciale bijeenkomsten
END:VEVENT
BEGIN:VEVENT
DTSTART;TZID=UTC:20260911T100000
DTEND;TZID=UTC:20260912T170000
DTSTAMP:20260426T035949
CREATED:20260203T204824Z
LAST-MODIFIED:20260203T204824Z
UID:104521-1789120800-1789232400@www.houtdraaiersgilde.be
SUMMARY:Demo & Opendeur dagen Willy Vanhoutte BV
DESCRIPTION:Meer info zie website !
URL:https://www.houtdraaiersgilde.be/event/demo-opendeur-dagen-willy-vanhoutte-bv/
LOCATION:Beernem\, Industriepark Noord 12\, Beernem\, West-Vlaanderen\, 8730\, België
CATEGORIES:Nationale activiteiten
END:VEVENT
BEGIN:VEVENT
DTSTART;VALUE=DATE:20260913
DTEND;VALUE=DATE:20260914
DTSTAMP:20260426T035949
CREATED:20260203T205235Z
LAST-MODIFIED:20260203T205235Z
UID:104523-1789257600-1789343999@www.houtdraaiersgilde.be
SUMMARY:Boulev'ART
DESCRIPTION:13 september : Boulev’ART\, kunstmarkt op de autovrije kleine ring
URL:https://www.houtdraaiersgilde.be/event/boulevart-3/
LOCATION:Kleine Ring\, Hasselt\, Belgium
CATEGORIES:Limburg,Provinciale bijeenkomsten
END:VEVENT
BEGIN:VEVENT
DTSTART;TZID=UTC:20260916T193000
DTEND;TZID=UTC:20260916T213000
DTSTAMP:20260426T035949
CREATED:20260203T191846Z
LAST-MODIFIED:20260203T191846Z
UID:104499-1789587000-1789594200@www.houtdraaiersgilde.be
SUMMARY:Maandelijkse provinciale vergadering Limburg
DESCRIPTION:3de woensdag van de maand
URL:https://www.houtdraaiersgilde.be/event/maandelijkse-provinciale-vergadering-limburg-15/
LOCATION:St.-Jozefzaal Verenigingenhuis\, Hoek Minderbroederstraat 2 en Onderwijslaan 100\, Genk\, Limburg\, 3600\, België
END:VEVENT
BEGIN:VEVENT
DTSTART;VALUE=DATE:20260918
DTEND;VALUE=DATE:20260921
DTSTAMP:20260426T035949
CREATED:20260203T212030Z
LAST-MODIFIED:20260203T212030Z
UID:104528-1789689600-1789948799@www.houtdraaiersgilde.be
SUMMARY:Drechsler-Forum Treffen 2026
DESCRIPTION:Es geht wie­der los! \nDrechsler-Forum-Treffen18.-20.09.2026Hödnerhof Ebbs\, Österreich#drechseln #dft2026 #woodturning\n\n\nEbbs\, Tirol\, Austria
URL:https://www.houtdraaiersgilde.be/event/drechsler-forum-treffen-2026/
LOCATION:Sai­ger­hüt­ten­gelän­de\, Ro­thentha­ler Straße 1\, Ol­bern­hau\, 09526\, Duitsland
CATEGORIES:Internationale activiteiten
ATTACH;FMTTYPE=image/jpeg:https://www.houtdraaiersgilde.be/wp-content/uploads/2023/11/drechsler_forum_treffen_2024.jpg
ORGANIZER;CN="Drech%C2%ADsel%C2%ADzen%C2%ADtrum Erz%C2%ADge%C2%ADbir%C2%ADge":MAILTO:kontakt@dft-2017.de
END:VEVENT
BEGIN:VEVENT
DTSTART;TZID=UTC:20261014T193000
DTEND;TZID=UTC:20261014T213000
DTSTAMP:20260426T035949
CREATED:20260203T221339Z
LAST-MODIFIED:20260203T221339Z
UID:104581-1792006200-1792013400@www.houtdraaiersgilde.be
SUMMARY:Maandelijkse provinciale vergadering Oost-Vlaanderen
DESCRIPTION:2de woensdag van de maand
URL:https://www.houtdraaiersgilde.be/event/maandelijkse-provinciale-vergadering-oost-vlaanderen-13/
LOCATION:EDUGO Campus Glorieux\, St.-Jozefstraat 7\, Oostakker\, Oost-Vlaanderen\, 9041\, België
CATEGORIES:Oost-Vlaanderen,Provinciale bijeenkomsten
END:VEVENT
BEGIN:VEVENT
DTSTART;TZID=UTC:20261021T193000
DTEND;TZID=UTC:20261021T213000
DTSTAMP:20260426T035949
CREATED:20260203T192047Z
LAST-MODIFIED:20260203T192047Z
UID:104502-1792611000-1792618200@www.houtdraaiersgilde.be
SUMMARY:Maandelijkse provinciale vergadering Limburg
DESCRIPTION:3de woensdag van de maand
URL:https://www.houtdraaiersgilde.be/event/maandelijkse-provinciale-vergadering-limburg-16/
LOCATION:St.-Jozefzaal Verenigingenhuis\, Hoek Minderbroederstraat 2 en Onderwijslaan 100\, Genk\, Limburg\, 3600\, België
CATEGORIES:Limburg,Provinciale bijeenkomsten
END:VEVENT
BEGIN:VEVENT
DTSTART;VALUE=DATE:20261115
DTEND;VALUE=DATE:20261116
DTSTAMP:20260426T035949
CREATED:20260204T111027Z
LAST-MODIFIED:20260204T111027Z
UID:104605-1794700800-1794787199@www.houtdraaiersgilde.be
SUMMARY:Dag van de Ambachten
DESCRIPTION:Dag van de Ambachten | Dag van de Ambachten\n\n\n\n\nDag van de Ambachten\nhttps://dagvandeambachten.be › …\n\n\n\n\n\n\nVerschillende leden van onze Gilde nemen hieraan deel.\n\n\n\n\n\n\n\n\n\n\n\n\n\n\n\n\n\n\n\n\n\nDag van de Ambachten. Op zondag 15 november 2026 openen ambachtslieden over heel België gratis hun deuren voor u. Ontdek welke ambachtslieden deelnemen.
URL:https://www.houtdraaiersgilde.be/event/dag-van-de-ambachten-2/
LOCATION:Vlaanderen\, België
ATTACH;FMTTYPE=image/jpeg:https://www.houtdraaiersgilde.be/wp-content/uploads/2023/11/houtdraaiers_achtergrond_kalenderitem.jpg
END:VEVENT
BEGIN:VEVENT
DTSTART;TZID=UTC:20261118T193000
DTEND;TZID=UTC:20261118T213000
DTSTAMP:20260426T035949
CREATED:20260203T192317Z
LAST-MODIFIED:20260203T192317Z
UID:104504-1795030200-1795037400@www.houtdraaiersgilde.be
SUMMARY:Maandelijkse provinciale vergadering Limburg
DESCRIPTION:3de woensdag van de maand
URL:https://www.houtdraaiersgilde.be/event/maandelijkse-provinciale-vergadering-limburg-17/
LOCATION:St.-Jozefzaal Verenigingenhuis\, Hoek Minderbroederstraat 2 en Onderwijslaan 100\, Genk\, Limburg\, 3600\, België
CATEGORIES:Limburg,Provinciale bijeenkomsten
END:VEVENT
BEGIN:VEVENT
DTSTART;TZID=UTC:20261216T193000
DTEND;TZID=UTC:20261216T213000
DTSTAMP:20260426T035949
CREATED:20260203T192622Z
LAST-MODIFIED:20260203T214442Z
UID:104506-1797449400-1797456600@www.houtdraaiersgilde.be
SUMMARY:Maandelijkse provinciale vergadering Limburg
DESCRIPTION:3de woensdag van de maand
URL:https://www.houtdraaiersgilde.be/event/maandelijkse-provinciale-vergadering-limburg-18/
LOCATION:St.-Jozefzaal Verenigingenhuis\, Hoek Minderbroederstraat 2 en Onderwijslaan 100\, Genk\, Limburg\, 3600\, België
CATEGORIES:Limburg,Provinciale bijeenkomsten
END:VEVENT
BEGIN:VEVENT
DTSTART;TZID=UTC:20261216T193000
DTEND;TZID=UTC:20261216T213000
DTSTAMP:20260426T035949
CREATED:20260203T221436Z
LAST-MODIFIED:20260203T221527Z
UID:104583-1797449400-1797456600@www.houtdraaiersgilde.be
SUMMARY:Maandelijkse provinciale vergadering Oost-Vlaanderen
DESCRIPTION:2de woensdag van de maand
URL:https://www.houtdraaiersgilde.be/event/maandelijkse-provinciale-vergadering-oost-vlaanderen-14/
LOCATION:EDUGO Campus Glorieux\, St.-Jozefstraat 7\, Oostakker\, Oost-Vlaanderen\, 9041\, België
CATEGORIES:Oost-Vlaanderen,Provinciale bijeenkomsten
END:VEVENT
BEGIN:VEVENT
DTSTART;TZID=UTC:20270606T100000
DTEND;TZID=UTC:20270606T170000
DTSTAMP:20260426T035949
CREATED:20260204T112658Z
LAST-MODIFIED:20260204T112733Z
UID:104511-1812276000-1812301200@www.houtdraaiersgilde.be
SUMMARY:Houthappening in Limburg
DESCRIPTION:Een organisatie van de Vlaamse Gilde van Houtdraaiers\, afdeling Limburg
URL:https://www.houtdraaiersgilde.be/event/houthappening-in-limburg/
LOCATION:Houthalen – Helchteren\, Don Boscostraat 6\, Houthalen - Helchteren\, Houthalen- Helchteren\, 3530\, België
END:VEVENT
BEGIN:VEVENT
DTSTART;VALUE=DATE:20271017
DTEND;VALUE=DATE:20271022
DTSTAMP:20260426T035949
CREATED:20260204T111553Z
LAST-MODIFIED:20260204T111553Z
UID:104609-1823731200-1824163199@www.houtdraaiersgilde.be
SUMMARY:Prowood in Flanders Expo - Gent
DESCRIPTION:alle info op www.prowood-fair.be \nStand Vlaamse Gilde van Houtdraaiers
URL:https://www.houtdraaiersgilde.be/event/prowood-in-flanders-expo-gent/
LOCATION:Gent\, Maaltekouter 1\, Gent\, 9051\, België
END:VEVENT
END:VCALENDAR