BEGIN:VCALENDAR
VERSION:2.0
PRODID:-//De Vlaamse Gilde van Houtdraaiers - ECPv6.10.0//NONSGML v1.0//EN
CALSCALE:GREGORIAN
METHOD:PUBLISH
X-WR-CALNAME:De Vlaamse Gilde van Houtdraaiers
X-ORIGINAL-URL:https://www.houtdraaiersgilde.be
X-WR-CALDESC:Evenementen voor De Vlaamse Gilde van Houtdraaiers
REFRESH-INTERVAL;VALUE=DURATION:PT1H
X-Robots-Tag:noindex
X-PUBLISHED-TTL:PT1H
BEGIN:VTIMEZONE
TZID:UTC
BEGIN:STANDARD
TZOFFSETFROM:+0000
TZOFFSETTO:+0000
TZNAME:UTC
DTSTART:20260101T000000
END:STANDARD
END:VTIMEZONE
BEGIN:VEVENT
DTSTART;TZID=UTC:20260204T193000
DTEND;TZID=UTC:20260204T220000
DTSTAMP:20260426T040320
CREATED:20260203T222122Z
LAST-MODIFIED:20260203T222122Z
UID:104586-1770233400-1770242400@www.houtdraaiersgilde.be
SUMMARY:Maandelijkse provinciale vergadering Antwerpen - Hoboken
DESCRIPTION:1ste woensdag v/d maand
URL:https://www.houtdraaiersgilde.be/event/maandelijkse-provinciale-vergadering-antwerpen-hoboken-7/
LOCATION:T.I. Don Bosco\, Salesianenlaan 1\, Hoboken\, Antwerpen\, 2660\, België
CATEGORIES:Antwerpen,Provinciale bijeenkomsten
END:VEVENT
BEGIN:VEVENT
DTSTART;TZID=UTC:20260211T193000
DTEND;TZID=UTC:20260211T213000
DTSTAMP:20260426T040320
CREATED:20260203T220159Z
LAST-MODIFIED:20260203T220159Z
UID:104569-1770838200-1770845400@www.houtdraaiersgilde.be
SUMMARY:Maandelijkse provinciale vergadering Oost-Vlaanderen
DESCRIPTION:2de woensdag van de maand
URL:https://www.houtdraaiersgilde.be/event/maandelijkse-provinciale-vergadering-oost-vlaanderen-7/
LOCATION:EDUGO Campus Glorieux\, St.-Jozefstraat 7\, Oostakker\, Oost-Vlaanderen\, 9041\, België
CATEGORIES:Oost-Vlaanderen,Provinciale bijeenkomsten
END:VEVENT
BEGIN:VEVENT
DTSTART;TZID=UTC:20260218T193000
DTEND;TZID=UTC:20260218T213000
DTSTAMP:20260426T040320
CREATED:20260203T184345Z
LAST-MODIFIED:20260203T184345Z
UID:104480-1771443000-1771450200@www.houtdraaiersgilde.be
SUMMARY:Maandelijkse provinciale vergadering Limburg
DESCRIPTION:3de woensdag van de maand
URL:https://www.houtdraaiersgilde.be/event/maandelijkse-provinciale-vergadering-limburg-5/
LOCATION:St.-Jozefzaal Verenigingenhuis\, Hoek Minderbroederstraat 2 en Onderwijslaan 100\, Genk\, Limburg\, 3600\, België
CATEGORIES:Limburg,Provinciale bijeenkomsten
END:VEVENT
BEGIN:VEVENT
DTSTART;TZID=UTC:20260225T193000
DTEND;TZID=UTC:20260225T213000
DTSTAMP:20260426T040320
CREATED:20251121T123427Z
LAST-MODIFIED:20251121T123427Z
UID:104260-1772047800-1772055000@www.houtdraaiersgilde.be
SUMMARY:Maandelijkse vergadering West-Vlaanderen
DESCRIPTION:4de woensdag van de maand
URL:https://www.houtdraaiersgilde.be/event/maandelijkse-vergadering-west-vlaanderen-3/
LOCATION:VTI Torhout -Sint Aloysius\, Papebrugstraat 8a\, Torhout\, West-Vlaanderen\, 8820\, België
CATEGORIES:Provinciale bijeenkomsten,West-Vlaanderen
END:VEVENT
BEGIN:VEVENT
DTSTART;TZID=UTC:20260226T193000
DTEND;TZID=UTC:20260226T220000
DTSTAMP:20260426T040320
CREATED:20260203T214956Z
LAST-MODIFIED:20260203T214956Z
UID:104559-1772134200-1772143200@www.houtdraaiersgilde.be
SUMMARY:Maandelijkse provinciale vergadering Vlaams-Brabant
DESCRIPTION:Laatste donderdag v/d maand
URL:https://www.houtdraaiersgilde.be/event/maandelijkse-provinciale-vergadering-vlaams-brabant-7/
LOCATION:Het Gasthuis Cultuurcentrum\, Gasthuisstraat 20/22\, Aarschot\, Vlaams-Brabant\, 3200\, België
CATEGORIES:Provinciale bijeenkomsten,Vlaams-Brabant
END:VEVENT
END:VCALENDAR